BEGIN:VCALENDAR
VERSION:2.0
PRODID:-//Hawkeye PSD - ECPv6.15.20//NONSGML v1.0//EN
CALSCALE:GREGORIAN
METHOD:PUBLISH
X-WR-CALNAME:Hawkeye PSD
X-ORIGINAL-URL:https://hawkeyepsd.com
X-WR-CALDESC:Events for Hawkeye PSD
REFRESH-INTERVAL;VALUE=DURATION:PT1H
X-Robots-Tag:noindex
X-PUBLISHED-TTL:PT1H
BEGIN:VTIMEZONE
TZID:UTC
BEGIN:STANDARD
TZOFFSETFROM:+0000
TZOFFSETTO:+0000
TZNAME:UTC
DTSTART:20250101T000000
END:STANDARD
END:VTIMEZONE
BEGIN:VEVENT
DTSTART;TZID=UTC:20260412T080000
DTEND;TZID=UTC:20260412T120000
DTSTAMP:20260419T193330
CREATED:20260205T145036Z
LAST-MODIFIED:20260205T145036Z
UID:981-1775980800-1775995200@hawkeyepsd.com
SUMMARY:[Morning Class] April 12\, 2026 – Martial Arts – Hand To Hand Combat in Cebu City\, Sports Center
DESCRIPTION:Sharpen your skills and build confidence with our upcoming Hand-to-Hand Combat Training. Designed for beginners and professionals alike\, this class focuses on practical self-defense techniques\, discipline\, and conditioning. Learn effective strategies to protect yourself\, enhance awareness\, and improve strength through guided instruction from experienced trainers.
URL:https://hawkeyepsd.com/event/morning-class-april-12-2026-martial-arts-hand-to-hand-combat-in-cebu-city-sports-center/
LOCATION:Cebu City Sports Center\, Cebu City Sports Center\, Cebu\, Cebu\, 6045\, Philippines
CATEGORIES:Martial Art
END:VEVENT
BEGIN:VEVENT
DTSTART;TZID=UTC:20260412T130000
DTEND;TZID=UTC:20260412T170000
DTSTAMP:20260419T193330
CREATED:20260205T145221Z
LAST-MODIFIED:20260205T145221Z
UID:984-1775998800-1776013200@hawkeyepsd.com
SUMMARY:[Afternoon Class] April 12\, 2026 – Martial Arts – Hand To Hand Combat in Cebu City\, Sports Center
DESCRIPTION:Sharpen your skills and build confidence with our upcoming Hand-to-Hand Combat Training. Designed for beginners and professionals alike\, this class focuses on practical self-defense techniques\, discipline\, and conditioning. Learn effective strategies to protect yourself\, enhance awareness\, and improve strength through guided instruction from experienced trainers.
URL:https://hawkeyepsd.com/event/afternoon-class-april-12-2026-martial-arts-hand-to-hand-combat-in-cebu-city-sports-center/
LOCATION:Cebu City Sports Center\, Cebu City Sports Center\, Cebu\, Cebu\, 6045\, Philippines
CATEGORIES:Martial Art
END:VEVENT
END:VCALENDAR